BEGIN:VCALENDAR
VERSION:2.0
PRODID:-//pretix//pretix.eu//
BEGIN:VTIMEZONE
TZID:Europe/Berlin
BEGIN:STANDARD
DTSTART:20001029T040000
RRULE:FREQ=YEARLY;BYDAY=-1SU;BYMONTH=10
TZNAME:CET
TZOFFSETFROM:+0200
TZOFFSETTO:+0100
END:STANDARD
BEGIN:DAYLIGHT
DTSTART:20000326T030000
RRULE:FREQ=YEARLY;BYDAY=-1SU;BYMONTH=3
TZNAME:CEST
TZOFFSETFROM:+0100
TZOFFSETTO:+0200
END:DAYLIGHT
END:VTIMEZONE
BEGIN:VEVENT
UID:pretix-tonali-230625M-Berlin-0@tickets.tonali.de
DTSTART;TZID=Europe/Berlin:20230630T200000
DTEND;TZID=Europe/Berlin:20230630T210000
DESCRIPTION:Tickets: https://tickets.tonali.de/230625M-Berlin/\nVeranstalte
 r: TONALi gemeinnützige GmbH
DTSTAMP:20260419T162107Z
LOCATION:Musikbrauerei BERLIN\, Greifswalderstraße 23a\, 10405 Berlin
SUMMARY:.M - MUSIKBRAUEREI BERLIN
END:VEVENT
END:VCALENDAR
