BEGIN:VCALENDAR
VERSION:2.0
PRODID:-//pretix//pretix.eu//
BEGIN:VTIMEZONE
TZID:Europe/Berlin
BEGIN:STANDARD
DTSTART:20001029T040000
RRULE:FREQ=YEARLY;BYDAY=-1SU;BYMONTH=10
TZNAME:CET
TZOFFSETFROM:+0200
TZOFFSETTO:+0100
END:STANDARD
BEGIN:DAYLIGHT
DTSTART:20000326T030000
RRULE:FREQ=YEARLY;BYDAY=-1SU;BYMONTH=3
TZNAME:CEST
TZOFFSETFROM:+0100
TZOFFSETTO:+0200
END:DAYLIGHT
END:VTIMEZONE
BEGIN:VEVENT
UID:pretix-tonali-gutschein-0@tickets.tonali.de
DTSTART;VALUE=DATE:20241201
DTEND;VALUE=DATE:20241202
DESCRIPTION:Tickets: https://tickets.tonali.de/gutschein/\nVeranstalter: TO
 NALi gemeinnützige GmbH
DTSTAMP:20260425T123931Z
LOCATION:TONALi SAAL\, Kleiner Kielort 3-5\, 20144 Hamburg
SUMMARY:Geschenkgutscheine
END:VEVENT
BEGIN:VEVENT
UID:pretix-tonali-just-another-tuesday-0@tickets.tonali.de
DTSTART;TZID=Europe/Berlin:20260327T193000
DTEND;TZID=Europe/Berlin:20260327T210000
DESCRIPTION:Tickets: https://tickets.tonali.de/just-another-tuesday/\nVeran
 stalter: TONALi gemeinnützige GmbH
DTSTAMP:20260425T123931Z
LOCATION:TONALi SAAL\, Kleiner Kielort 3-5\, 20144 Hamburg
SUMMARY:Just Another Tuesday
END:VEVENT
BEGIN:VEVENT
UID:pretix-tonali-Worte-nichts-als-worte-0@tickets.tonali.de
DTSTART;TZID=Europe/Berlin:20260328T193000
DTEND;TZID=Europe/Berlin:20260328T210000
DESCRIPTION:Tickets: https://tickets.tonali.de/Worte-nichts-als-worte/\nVer
 anstalter: TONALi gemeinnützige GmbH
DTSTAMP:20260425T123931Z
LOCATION:TONALi SAAL\, Kleiner Kielort 3-5\, 20144 Hamburg
SUMMARY:Worte\, nichts als Worte
END:VEVENT
BEGIN:VEVENT
UID:pretix-tonali-260402liedkunst14-0@tickets.tonali.de
DTSTART;TZID=Europe/Berlin:20260402T193000
DTEND;TZID=Europe/Berlin:20260402T210000
DESCRIPTION:Tickets: https://tickets.tonali.de/260402liedkunst14/\nVeransta
 lter: TONALi gemeinnützige GmbH
DTSTAMP:20260425T123931Z
LOCATION:TONALi SAAL\, Kleiner Kielort 3-5\, 20144 Hamburg
SUMMARY:Lied.Kunst.Hamburg – Salonkonzert Nr. 14
END:VEVENT
BEGIN:VEVENT
UID:pretix-tonali-waks-0@tickets.tonali.de
DTSTART;TZID=Europe/Berlin:20260409T193000
DTEND;TZID=Europe/Berlin:20260409T210000
DESCRIPTION:Tickets: https://tickets.tonali.de/waks/\nVeranstalter: TONALi 
 gemeinnützige GmbH
DTSTAMP:20260425T123931Z
LOCATION:TONALi SAAL\, Kleiner Kielort 3-5\, 20144 Hamburg
SUMMARY:Ensemble WAKS – CD Release Konzert
END:VEVENT
BEGIN:VEVENT
UID:pretix-tonali-romy-la-mer-et-la-musique-0@tickets.tonali.de
DTSTART;TZID=Europe/Berlin:20260411T193000
DTEND;TZID=Europe/Berlin:20260411T210000
DESCRIPTION:Tickets: https://tickets.tonali.de/romy-la-mer-et-la-musique/\n
 Veranstalter: TONALi gemeinnützige GmbH
DTSTAMP:20260425T123931Z
LOCATION:TONALi SAAL\, Kleiner Kielort 3-5\, 20144 Hamburg
SUMMARY:Romy\, la mer et la musique
END:VEVENT
BEGIN:VEVENT
UID:pretix-tonali-felixmendelssohn-0@tickets.tonali.de
DTSTART;TZID=Europe/Berlin:20260413T193000
DTEND;TZID=Europe/Berlin:20260413T210000
DESCRIPTION:Tickets: https://tickets.tonali.de/felixmendelssohn/\nVeranstal
 ter: TONALi gemeinnützige GmbH
DTSTAMP:20260425T123931Z
LOCATION:TONALi SAAL\, Kleiner Kielort 3-5\, 20144 Hamburg
SUMMARY:Felix Mendelssohn — Lieder ohne Worte & Streichquartett
END:VEVENT
BEGIN:VEVENT
UID:pretix-tonali-260619-0@tickets.tonali.de
DTSTART;TZID=Europe/Berlin:20260417T193000
DTEND;TZID=Europe/Berlin:20260417T210000
DESCRIPTION:Tickets: https://tickets.tonali.de/260619/\nVeranstalter: TONAL
 i gemeinnützige GmbH
DTSTAMP:20260425T123931Z
LOCATION:TONALi SAAL\, Kleiner Kielort 3-5\, 20144 Hamburg
SUMMARY:Veronique Elling & Band: JACQUES BREL - Träume\, die nie enden
END:VEVENT
BEGIN:VEVENT
UID:pretix-tonali-liederundvielmehr-0@tickets.tonali.de
DTSTART;TZID=Europe/Berlin:20260419T160000
DTEND;TZID=Europe/Berlin:20260419T180000
DESCRIPTION:Tickets: https://tickets.tonali.de/liederundvielmehr/\nVeransta
 lter: TONALi gemeinnützige GmbH
DTSTAMP:20260425T123931Z
LOCATION:TONALi SAAL\, Kleiner Kielort 3-5\, 20144 Hamburg
SUMMARY:Gustav Mahler — Lieder und viel mehr
END:VEVENT
BEGIN:VEVENT
UID:pretix-tonali-labfestival26-0@tickets.tonali.de
DTSTART;TZID=Europe/Berlin:20260421T193000
DTEND;TZID=Europe/Berlin:20260424T220000
DESCRIPTION:Tickets: https://tickets.tonali.de/labfestival26/\nVeranstalter
 : TONALi gemeinnützige GmbH
DTSTAMP:20260425T123931Z
LOCATION:TONALi SAAL\, Kleiner Kielort 3-5\, 20144 Hamburg
SUMMARY:TONALi KonzertLab Festival 2026
END:VEVENT
BEGIN:VEVENT
UID:pretix-tonali-im-leuchtturm-durch-die-zeit-0@tickets.tonali.de
DTSTART;TZID=Europe/Berlin:20260425T193000
DTEND;TZID=Europe/Berlin:20260425T210000
DESCRIPTION:Tickets: https://tickets.tonali.de/im-leuchtturm-durch-die-zeit
 /\nVeranstalter: TONALi gemeinnützige GmbH
DTSTAMP:20260425T123931Z
LOCATION:TONALi SAAL\, Kleiner Kielort 3-5\, 20144 Hamburg
SUMMARY:Im Leuchtturm durch die Zeit
END:VEVENT
BEGIN:VEVENT
UID:pretix-tonali-heinehaus26-0@tickets.tonali.de
DTSTART;TZID=Europe/Berlin:20260508T193000
DTEND;TZID=Europe/Berlin:20260508T210000
DESCRIPTION:Tickets: https://tickets.tonali.de/heinehaus26/\nVeranstalter: 
 TONALi gemeinnützige GmbH
DTSTAMP:20260425T123931Z
LOCATION:TONALi SAAL\, Kleiner Kielort 3-5\, 20144 Hamburg
SUMMARY:Abschlusskonzert der Heine-Mendelssohn-Residenz 2026
END:VEVENT
BEGIN:VEVENT
UID:pretix-tonali-jessewill-0@tickets.tonali.de
DTSTART;TZID=Europe/Berlin:20260514T193000
DTEND;TZID=Europe/Berlin:20260514T210000
DESCRIPTION:Tickets: https://tickets.tonali.de/jessewill/\nVeranstalter: TO
 NALi gemeinnützige GmbH
DTSTAMP:20260425T123931Z
LOCATION:TONALi SAAL\, Kleiner Kielort 3-5\, 20144 Hamburg
SUMMARY:Jesse Will — EU Tour
END:VEVENT
BEGIN:VEVENT
UID:pretix-tonali-allhoff26-0@tickets.tonali.de
DTSTART;TZID=Europe/Berlin:20260515T193000
DTEND;TZID=Europe/Berlin:20260515T210000
DESCRIPTION:Tickets: https://tickets.tonali.de/allhoff26/\nVeranstalter: TO
 NALi gemeinnützige GmbH
DTSTAMP:20260425T123931Z
LOCATION:TONALi SAAL\, Kleiner Kielort 3-5\, 20144 Hamburg
SUMMARY:Tim Allhoff – BETWEEN HERE AND NOWHERE
END:VEVENT
BEGIN:VEVENT
UID:pretix-tonali-260529chanson-0@tickets.tonali.de
DTSTART;TZID=Europe/Berlin:20260529T193000
DTEND;TZID=Europe/Berlin:20260529T210000
DESCRIPTION:Tickets: https://tickets.tonali.de/260529chanson/\nVeranstalter
 : TONALi gemeinnützige GmbH
DTSTAMP:20260425T123931Z
LOCATION:TONALi SAAL\, Kleiner Kielort 3-5\, 20144 Hamburg
SUMMARY:Der kleine Prinz – Véronique Elling & Band
END:VEVENT
BEGIN:VEVENT
UID:pretix-tonali-meine-seele-ist-noch-unterwegs-0@tickets.tonali.de
DTSTART;TZID=Europe/Berlin:20260530T193000
DTEND;TZID=Europe/Berlin:20260530T210000
DESCRIPTION:Tickets: https://tickets.tonali.de/meine-seele-ist-noch-unterwe
 gs/\nVeranstalter: TONALi gemeinnützige GmbH
DTSTAMP:20260425T123931Z
LOCATION:TONALi SAAL\, Kleiner Kielort 3-5\, 20144 Hamburg
SUMMARY:Meine Seele ist noch unterwegs
END:VEVENT
BEGIN:VEVENT
UID:pretix-tonali-Tuning-Rituals-0@tickets.tonali.de
DTSTART;TZID=Europe/Berlin:20260607T200000
DTEND;TZID=Europe/Berlin:20260607T220000
DESCRIPTION:Tickets: https://tickets.tonali.de/Tuning-Rituals/\nVeranstalte
 r: TONALi gemeinnützige GmbH
DTSTAMP:20260425T123931Z
LOCATION:TONALi SAAL\, Kleiner Kielort 3-5\, 20144 Hamburg
SUMMARY:Tuning Rituals: Bohlen-Pierce-Skala — blurred edges
END:VEVENT
BEGIN:VEVENT
UID:pretix-tonali-motschmann26-0@tickets.tonali.de
DTSTART;TZID=Europe/Berlin:20260611T193000
DTEND;TZID=Europe/Berlin:20260611T213000
DESCRIPTION:Tickets: https://tickets.tonali.de/motschmann26/\nVeranstalter:
  TONALi gemeinnützige GmbH
DTSTAMP:20260425T123931Z
LOCATION:TONALi SAAL\, Kleiner Kielort 3-5\, 20144 Hamburg
SUMMARY:Johannes Motschmann: „Préludes Tableaux“ für Klavier
END:VEVENT
BEGIN:VEVENT
UID:pretix-tonali-der-aethiopier-0@tickets.tonali.de
DTSTART;TZID=Europe/Berlin:20260613T193000
DTEND;TZID=Europe/Berlin:20260613T210000
DESCRIPTION:Tickets: https://tickets.tonali.de/der-aethiopier/\nVeranstalte
 r: TONALi gemeinnützige GmbH
DTSTAMP:20260425T123931Z
LOCATION:TONALi SAAL\, Kleiner Kielort 3-5\, 20144 Hamburg
SUMMARY:DER ÄTHIOPIER KONZERTLESUNG
END:VEVENT
BEGIN:VEVENT
UID:pretix-tonali-be26-pape-0@tickets.tonali.de
DTSTART;TZID=Europe/Berlin:20260618T200000
DTEND;TZID=Europe/Berlin:20260618T210000
DESCRIPTION:Tickets: https://tickets.tonali.de/be26-pape/\nVeranstalter: TO
 NALi gemeinnützige GmbH
DTSTAMP:20260425T123931Z
LOCATION:TONALi SAAL\, Kleiner Kielort 3-5\, 20144 Hamburg
SUMMARY:{ } – Zacharias Faßhauer und Paul Pape
END:VEVENT
BEGIN:VEVENT
UID:pretix-tonali-Nuitblanches26-0@tickets.tonali.de
DTSTART;TZID=Europe/Berlin:20260619T193000
DTEND;TZID=Europe/Berlin:20260619T220000
DESCRIPTION:Tickets: https://tickets.tonali.de/Nuitblanches26/\nVeranstalte
 r: TONALi gemeinnützige GmbH
DTSTAMP:20260425T123931Z
LOCATION:TONALi SAAL\, Kleiner Kielort 3-5\, 20144 Hamburg
SUMMARY:Nuits blanches - im Rausch der Nacht
END:VEVENT
BEGIN:VEVENT
UID:pretix-tonali-hanseshtetl02-0@tickets.tonali.de
DTSTART;TZID=Europe/Berlin:20260620T193000
DTEND;TZID=Europe/Berlin:20260620T210000
DESCRIPTION:Tickets: https://tickets.tonali.de/hanseshtetl02/\nVeranstalter
 : TONALi gemeinnützige GmbH
DTSTAMP:20260425T123931Z
LOCATION:TONALi SAAL\, Kleiner Kielort 3-5\, 20144 Hamburg
SUMMARY:Duo Lerner-Moguilevsky aus Argentinien
END:VEVENT
BEGIN:VEVENT
UID:pretix-tonali-hansesthetl.03-0@tickets.tonali.de
DTSTART;TZID=Europe/Berlin:20260621T150000
DTEND;TZID=Europe/Berlin:20260621T180000
DESCRIPTION:Tickets: https://tickets.tonali.de/hansesthetl.03/\nVeranstalte
 r: TONALi gemeinnützige GmbH
DTSTAMP:20260425T123931Z
LOCATION:TONALi SAAL\, Kleiner Kielort 3-5\, 20144 Hamburg
SUMMARY:Klezmer Workshop
END:VEVENT
END:VCALENDAR
